BEGIN:VCALENDAR
VERSION:2.0
PRODID:-//ZContent.net//ZapCalLib 1.0//EN
CALSCALE:GREGORIAN
METHOD:PUBLISH
BEGIN:VEVENT
SUMMARY:„Koloniale Spuren, postkoloniale Städte“ | Workshop im Rahmen 
 der Political Art Days
DTSTART:20210912T110000
DTEND:20210912T130000
UID:2026-04-23-17-21-07-0-@calendar.boell.de
DTSTAMP:20260423T152107
DESCRIPTION:▶ Siehe Veranstaltungsbeschreibung – Dresden – Landesstif
 tung Sachsen (Weiterdenken)
END:VEVENT
END:VCALENDAR
