BEGIN:VCALENDAR
VERSION:2.0
PRODID:-//ZContent.net//ZapCalLib 1.0//EN
CALSCALE:GREGORIAN
METHOD:PUBLISH
BEGIN:VEVENT
SUMMARY:Deutschland und seine Sicherheitspolitik – im westlichen Bündnis
  nichts Neues? 
DTSTART:20211130T190000
DTEND:20211130T203000
UID:2026-04-25-23-40-56-0-@calendar.boell.de
DTSTAMP:20260425T214056
DESCRIPTION:▶ Online-Veranstaltung – Petra-Kelly-Stiftung
END:VEVENT
END:VCALENDAR
