BEGIN:VCALENDAR
VERSION:2.0
PRODID:-//ZContent.net//ZapCalLib 1.0//EN
CALSCALE:GREGORIAN
METHOD:PUBLISH
BEGIN:VEVENT
SUMMARY:Katapult-Ausstellung „Grüne Fakten to Go“
DTSTART:20211105T100000
DTEND:20211127T170000
UID:2026-04-23-17-20-36-0-@calendar.boell.de
DTSTAMP:20260423T152036
DESCRIPTION:▶ Siehe Veranstaltungsbeschreibung – Rostock – Landesstif
 tung Mecklenburg-Vorpommern
END:VEVENT
END:VCALENDAR
