BEGIN:VCALENDAR
VERSION:2.0
PRODID:-//ZContent.net//ZapCalLib 1.0//EN
CALSCALE:GREGORIAN
METHOD:PUBLISH
BEGIN:VEVENT
SUMMARY:Die Tagesordnung - deutsche Erstaufführung | Szenische Adaption vo
 n Eric Vuillards Erzählung "l’Ordre du jour"
DTSTART:20211106T160000
DTEND:20211106T173000
UID:2026-04-22-22-13-26-0-@calendar.boell.de
DTSTAMP:20260422T201326
DESCRIPTION:▶ Siehe Veranstaltungsbeschreibung – Bremen – Landesstift
 ung Bremen
END:VEVENT
END:VCALENDAR
