BEGIN:VCALENDAR
VERSION:2.0
PRODID:-//ZContent.net//ZapCalLib 1.0//EN
CALSCALE:GREGORIAN
METHOD:PUBLISH
BEGIN:VEVENT
SUMMARY:3. Salon des guten Lebens | Nachhaltigkeit braucht Entschleunigung 
 braucht Grundein/aus/kommen Voraussetzungen für ein gelingendes Leben?! 
DTSTART:20211111T193000
DTEND:20211111T210000
UID:2026-04-24-05-34-08-0-@calendar.boell.de
DTSTAMP:20260424T033408
DESCRIPTION:▶ Online-Veranstaltung – Heinrich-Böll-Stiftung im Stiftun
 gsverbund
END:VEVENT
END:VCALENDAR
