BEGIN:VCALENDAR
VERSION:2.0
PRODID:-//ZContent.net//ZapCalLib 1.0//EN
CALSCALE:GREGORIAN
METHOD:PUBLISH
BEGIN:VEVENT
SUMMARY:Verschoben auf 2022! Make Rojava Green Again | Veranstaltung in Gad
 ebusch
DTSTART:20211201T190000
DTEND:20211201T203000
UID:2026-04-25-04-08-07-0-@calendar.boell.de
DTSTAMP:20260425T020807
DESCRIPTION:▶ Siehe Veranstaltungsbeschreibung – Landesstiftung Mecklen
 burg-Vorpommern
END:VEVENT
END:VCALENDAR
