BEGIN:VCALENDAR
VERSION:2.0
PRODID:-//ZContent.net//ZapCalLib 1.0//EN
CALSCALE:GREGORIAN
METHOD:PUBLISH
BEGIN:VEVENT
SUMMARY:Verschoben auf 2022! Make Rojava Green Again
DTSTART:20211129T190000
DTEND:20211129T203000
UID:2026-04-24-03-26-00-0-@calendar.boell.de
DTSTAMP:20260424T012600
DESCRIPTION:▶ Siehe Veranstaltungsbeschreibung – Schwerin – Landessti
 ftung Mecklenburg-Vorpommern
END:VEVENT
END:VCALENDAR
