BEGIN:VCALENDAR
VERSION:2.0
PRODID:-//ZContent.net//ZapCalLib 1.0//EN
CALSCALE:GREGORIAN
METHOD:PUBLISH
BEGIN:VEVENT
SUMMARY:Hass und digitale Gewalt: Plattformen in die Pflicht nehmen | Anmel
 dung nicht mehr möglich
DTSTART:20211104T170000
DTEND:20211104T180000
UID:2026-04-24-02-48-49-0-@calendar.boell.de
DTSTAMP:20260424T004849
DESCRIPTION:▶ Online-Veranstaltung – Heinrich-Böll-Stiftung - Bundesst
 iftung Berlin
END:VEVENT
END:VCALENDAR
