BEGIN:VCALENDAR
VERSION:2.0
PRODID:-//ZContent.net//ZapCalLib 1.0//EN
CALSCALE:GREGORIAN
METHOD:PUBLISH
BEGIN:VEVENT
SUMMARY:Oskar Maria Graf und die bayerische Revolution
DTSTART:20211111T180000
DTEND:20211111T203000
UID:2026-04-23-10-53-31-0-@calendar.boell.de
DTSTAMP:20260423T085331
DESCRIPTION:▶ Online-Veranstaltung – Petra-Kelly-Stiftung
END:VEVENT
END:VCALENDAR
