BEGIN:VCALENDAR
VERSION:2.0
PRODID:-//ZContent.net//ZapCalLib 1.0//EN
CALSCALE:GREGORIAN
METHOD:PUBLISH
BEGIN:VEVENT
SUMMARY:Ausstellung „Postsowjetische Lebenswelten“ | 
DTSTART:20211027T100000
DTEND:20211217T143000
UID:2021-12-02-03-43-40-0-@calendar.boell.de
DTSTAMP:20211202T024340
DESCRIPTION:▶ Siehe Veranstaltungsbeschreibung – Stralsund – Landesst
 iftung Mecklenburg-Vorpommern
END:VEVENT
END:VCALENDAR
