BEGIN:VCALENDAR
VERSION:2.0
PRODID:-//ZContent.net//ZapCalLib 1.0//EN
CALSCALE:GREGORIAN
METHOD:PUBLISH
BEGIN:VEVENT
SUMMARY:„Kabul, City in the Wind“ | Filmvorführung und Diskussion
DTSTART:20211123T200000
DTEND:20211123T223000
UID:2021-12-02-05-37-33-0-@calendar.boell.de
DTSTAMP:20211202T043733
DESCRIPTION:▶ Siehe Veranstaltungsbeschreibung – Berlin – Landesstift
 ung Berlin (Bildungswerk)
END:VEVENT
END:VCALENDAR
