BEGIN:VCALENDAR
VERSION:2.0
PRODID:-//ZContent.net//ZapCalLib 1.0//EN
CALSCALE:GREGORIAN
METHOD:PUBLISH
BEGIN:VEVENT
SUMMARY:Kommunales Wohnen - Perspektive für ein bezahlbares Berlin?
DTSTART:20211119T190000
DTEND:20211119T203000
UID:2026-04-26-04-41-04-0-@calendar.boell.de
DTSTAMP:20260426T024104
DESCRIPTION:▶ Siehe Veranstaltungsbeschreibung – Landesstiftung Berlin 
 (Bildungswerk)
END:VEVENT
END:VCALENDAR
