BEGIN:VCALENDAR
VERSION:2.0
PRODID:-//ZContent.net//ZapCalLib 1.0//EN
CALSCALE:GREGORIAN
METHOD:PUBLISH
BEGIN:VEVENT
SUMMARY:Wohnung als Grundrecht | Notunterkünfte sind keine Dauerlösung
DTSTART:20211104T190000
DTEND:20211104T203000
UID:2026-04-23-23-28-37-0-@calendar.boell.de
DTSTAMP:20260423T212837
DESCRIPTION:▶ Siehe Veranstaltungsbeschreibung – Landesstiftung Berlin 
 (Bildungswerk)
END:VEVENT
END:VCALENDAR
