BEGIN:VCALENDAR
VERSION:2.0
PRODID:-//ZContent.net//ZapCalLib 1.0//EN
CALSCALE:GREGORIAN
METHOD:PUBLISH
BEGIN:VEVENT
SUMMARY:Tag der Freien Theater in Niedersachsen
DTSTART:20211105T100000
DTEND:20211105T223000
UID:2026-04-22-22-13-23-0-@calendar.boell.de
DTSTAMP:20260422T201323
DESCRIPTION:▶ Online-Veranstaltung – Stiftung Leben & Umwelt / Heinrich
 -Böll-Stiftung Niedersachsen
END:VEVENT
END:VCALENDAR
