BEGIN:VCALENDAR
VERSION:2.0
PRODID:-//ZContent.net//ZapCalLib 1.0//EN
CALSCALE:GREGORIAN
METHOD:PUBLISH
BEGIN:VEVENT
SUMMARY:Bénédicte Savoy: Afrikas Kampf um seine Kunst (Teil 2) | Lesung u
 nd Gespräch im Festsaal der Bremischen Bürgerschaft
DTSTART:20211008T180000
DTEND:20211008T200000
UID:2026-04-25-23-41-45-0-@calendar.boell.de
DTSTAMP:20260425T214145
DESCRIPTION:▶ Siehe Veranstaltungsbeschreibung – Bremen – Landesstift
 ung Bremen
END:VEVENT
END:VCALENDAR
