BEGIN:VCALENDAR
VERSION:2.0
PRODID:-//ZContent.net//ZapCalLib 1.0//EN
CALSCALE:GREGORIAN
METHOD:PUBLISH
BEGIN:VEVENT
SUMMARY:WIE MACHT MAN GUTE KUNST FÜR OSTDEUTSCHE | Ein Theaterabend
DTSTART:20211022T200000
DTEND:20211022T220000
UID:2026-04-24-12-11-04-0-@calendar.boell.de
DTSTAMP:20260424T101104
DESCRIPTION:▶ Siehe Veranstaltungsbeschreibung – Bautzen – Landesstif
 tung Sachsen (Weiterdenken)
END:VEVENT
END:VCALENDAR
