BEGIN:VCALENDAR
VERSION:2.0
PRODID:-//ZContent.net//ZapCalLib 1.0//EN
CALSCALE:GREGORIAN
METHOD:PUBLISH
BEGIN:VEVENT
SUMMARY:Grundkurs Wasserstoff #2 | Politische Rahmenbedingungen für klimas
 chonenden Wasserstoff
DTSTART:20211014T193000
DTEND:20211014T204500
UID:2026-04-26-04-41-08-0-@calendar.boell.de
DTSTAMP:20260426T024108
DESCRIPTION:▶ Online-Veranstaltung – Heinrich-Böll-Stiftung im Stiftun
 gsverbund
END:VEVENT
END:VCALENDAR
