BEGIN:VCALENDAR
VERSION:2.0
PRODID:-//ZContent.net//ZapCalLib 1.0//EN
CALSCALE:GREGORIAN
METHOD:PUBLISH
BEGIN:VEVENT
SUMMARY:Partizipation im Wohnbau. Erfahrungen aus der Steiermark | Öffentl
 iche Online-Vorlesung mit Dr. Andrea Jany (Karl-Franzens-Universität Graz
 )
DTSTART:20220111T163000
DTEND:20220111T180000
UID:2021-12-02-01-13-38-0-@calendar.boell.de
DTSTAMP:20211202T001338
DESCRIPTION:▶ Siehe Veranstaltungsbeschreibung – Landesstiftung Sachsen
  (Weiterdenken)
END:VEVENT
END:VCALENDAR
