BEGIN:VCALENDAR
VERSION:2.0
PRODID:-//ZContent.net//ZapCalLib 1.0//EN
CALSCALE:GREGORIAN
METHOD:PUBLISH
BEGIN:VEVENT
SUMMARY:Die Wiener Wohnungspolitik als Erfolgsmodell gegen Verdrängung? | 
 Öffentliche Online-Vorlesung mit Dr. Justin Kadi (Technische Universität
  Wien)
DTSTART:20211109T163000
DTEND:20211109T180000
UID:2026-04-23-21-49-20-0-@calendar.boell.de
DTSTAMP:20260423T194920
DESCRIPTION:▶ Siehe Veranstaltungsbeschreibung – Landesstiftung Sachsen
  (Weiterdenken)
END:VEVENT
END:VCALENDAR
