BEGIN:VCALENDAR
VERSION:2.0
PRODID:-//ZContent.net//ZapCalLib 1.0//EN
CALSCALE:GREGORIAN
METHOD:PUBLISH
BEGIN:VEVENT
SUMMARY:Kollektiv – Korruption tötet (Colectiv) | Filmreihe Kino Europa 
 (OmdU)
DTSTART:20211011T190000
DTEND:20211011T210000
UID:2021-12-02-01-13-36-0-@calendar.boell.de
DTSTAMP:20211202T001336
DESCRIPTION:▶ Siehe Veranstaltungsbeschreibung – München – Petra-Kel
 ly-Stiftung
END:VEVENT
END:VCALENDAR
