BEGIN:VCALENDAR
VERSION:2.0
PRODID:-//ZContent.net//ZapCalLib 1.0//EN
CALSCALE:GREGORIAN
METHOD:PUBLISH
BEGIN:VEVENT
SUMMARY:Wildnistrail - Test | Naturschutzkonzepte und Regionalentwicklung a
 m Beispiel des Wildnistrail im Nationalpark-Eifel
DTSTART:20211004T103000
DTEND:20211005T160000
UID:2021-12-02-01-17-26-0-@calendar.boell.de
DTSTAMP:20211202T001726
DESCRIPTION:▶ Siehe Veranstaltungsbeschreibung – Landesstiftung Nordrhe
 in-Westfalen
END:VEVENT
END:VCALENDAR
