BEGIN:VCALENDAR
VERSION:2.0
PRODID:-//ZContent.net//ZapCalLib 1.0//EN
CALSCALE:GREGORIAN
METHOD:PUBLISH
BEGIN:VEVENT
SUMMARY:„…auf dem Grabstein hätte ich gerne mein Foto“  | Szenische 
 Lesung mit der Figurenspielerin Julia Raab
DTSTART:20211012T190000
DTEND:20211012T210000
UID:2021-12-02-01-18-00-0-@calendar.boell.de
DTSTAMP:20211202T001800
DESCRIPTION:▶ Siehe Veranstaltungsbeschreibung – Dresden – Landesstif
 tung Sachsen (Weiterdenken)
END:VEVENT
END:VCALENDAR
