BEGIN:VCALENDAR
VERSION:2.0
PRODID:-//ZContent.net//ZapCalLib 1.0//EN
CALSCALE:GREGORIAN
METHOD:PUBLISH
BEGIN:VEVENT
SUMMARY:Nachhaltige Gewerbegebiete – ein Widerspruch, oder zukunftsgerech
 te Stadtentwicklung | Ein Überblick zu möglichen Lösungsansätzen aus d
 er kommunalen Praxis
DTSTART:20211109T190000
DTEND:20211109T210000
UID:2021-12-02-01-17-25-0-@calendar.boell.de
DTSTAMP:20211202T001725
DESCRIPTION:▶ Online-Veranstaltung – Petra-Kelly-Stiftung
END:VEVENT
END:VCALENDAR
