BEGIN:VCALENDAR
VERSION:2.0
PRODID:-//ZContent.net//ZapCalLib 1.0//EN
CALSCALE:GREGORIAN
METHOD:PUBLISH
BEGIN:VEVENT
SUMMARY:Playback Performance “Let the Dream be Your Wings” | Kulturwoch
 en Syrien
DTSTART:20211022T200000
DTEND:20211022T220000
UID:2021-12-02-01-17-49-0-@calendar.boell.de
DTSTAMP:20211202T001749
DESCRIPTION:▶ Siehe Veranstaltungsbeschreibung – Kiel – Landesstiftun
 g Schleswig-Holstein
END:VEVENT
END:VCALENDAR
