BEGIN:VCALENDAR
VERSION:2.0
PRODID:-//ZContent.net//ZapCalLib 1.0//EN
CALSCALE:GREGORIAN
METHOD:PUBLISH
BEGIN:VEVENT
SUMMARY:Seminar: Haltung zeigen! Argumentieren gegen antifeministische Ã„uÃ
 Ÿerungen | 
DTSTART:20211022T110000
DTEND:20211022T180000
UID:2021-12-02-01-17-51-0-@calendar.boell.de
DTSTAMP:20211202T001751
DESCRIPTION:â–¶ Siehe Veranstaltungsbeschreibung â€“ Rostock â€“ Landesstif
 tung Mecklenburg-Vorpommern
END:VEVENT
END:VCALENDAR
