BEGIN:VCALENDAR
VERSION:2.0
PRODID:-//ZContent.net//ZapCalLib 1.0//EN
CALSCALE:GREGORIAN
METHOD:PUBLISH
BEGIN:VEVENT
SUMMARY:Visions for a Digital Europe 2025 | 
DTSTART:20211027T100000
DTEND:20211027T173000
UID:2021-12-02-01-18-04-0-@calendar.boell.de
DTSTAMP:20211202T001804
DESCRIPTION:▶ Online-Veranstaltung – Heinrich-Böll-Stiftung - Bundesst
 iftung Berlin
END:VEVENT
END:VCALENDAR
