BEGIN:VCALENDAR
VERSION:2.0
PRODID:-//ZContent.net//ZapCalLib 1.0//EN
CALSCALE:GREGORIAN
METHOD:PUBLISH
BEGIN:VEVENT
SUMMARY:Kochkurs - Syrischer Kochabend | Kulturwochen Syrien
DTSTART:20211013T180000
DTEND:20211013T210000
UID:2021-12-02-01-18-04-0-@calendar.boell.de
DTSTAMP:20211202T001804
DESCRIPTION:▶ Siehe Veranstaltungsbeschreibung – Landesstiftung Schlesw
 ig-Holstein
END:VEVENT
END:VCALENDAR
