BEGIN:VCALENDAR
VERSION:2.0
PRODID:-//ZContent.net//ZapCalLib 1.0//EN
CALSCALE:GREGORIAN
METHOD:PUBLISH
BEGIN:VEVENT
SUMMARY:Literaturworkshop | Kulturwochen Syrien
DTSTART:20211108T170000
DTEND:20211108T190000
UID:2021-12-02-01-18-33-0-@calendar.boell.de
DTSTAMP:20211202T001833
DESCRIPTION:▶ Siehe Veranstaltungsbeschreibung – Kiel – Landesstiftun
 g Schleswig-Holstein
END:VEVENT
END:VCALENDAR
