BEGIN:VCALENDAR
VERSION:2.0
PRODID:-//ZContent.net//ZapCalLib 1.0//EN
CALSCALE:GREGORIAN
METHOD:PUBLISH
BEGIN:VEVENT
SUMMARY:Erinnerungsstücke Syrien - Schaufensterausstellung | Kulturwochen 
 Syrien
DTSTART:20211106T080000
DTEND:20211119T180000
UID:2026-04-23-03-08-33-0-@calendar.boell.de
DTSTAMP:20260423T010833
DESCRIPTION:▶ Siehe Veranstaltungsbeschreibung – Kiel – Landesstiftun
 g Schleswig-Holstein
END:VEVENT
END:VCALENDAR
