BEGIN:VCALENDAR
VERSION:2.0
PRODID:-//ZContent.net//ZapCalLib 1.0//EN
CALSCALE:GREGORIAN
METHOD:PUBLISH
BEGIN:VEVENT
SUMMARY:Die Unbeugsamen | 
DTSTART:20210923T193000
DTEND:20210923T210000
UID:2021-12-02-01-18-09-0-@calendar.boell.de
DTSTAMP:20211202T001809
DESCRIPTION:▶ Siehe Veranstaltungsbeschreibung – Ludwigsburg – Heinri
 ch Böll Stiftung Baden-Württemberg
END:VEVENT
END:VCALENDAR
