BEGIN:VCALENDAR
VERSION:2.0
PRODID:-//ZContent.net//ZapCalLib 1.0//EN
CALSCALE:GREGORIAN
METHOD:PUBLISH
BEGIN:VEVENT
SUMMARY:GreenCampus Workshop Spezial: Reden schreiben, die andere halten | 
DTSTART:20221010T093000
DTEND:20221011T163000
UID:2021-12-02-01-45-27-0-@calendar.boell.de
DTSTAMP:20211202T004527
DESCRIPTION:▶ Online-Veranstaltung – GreenCampus
END:VEVENT
END:VCALENDAR
