BEGIN:VCALENDAR
VERSION:2.0
PRODID:-//ZContent.net//ZapCalLib 1.0//EN
CALSCALE:GREGORIAN
METHOD:PUBLISH
BEGIN:VEVENT
SUMMARY:Wir alle spielen Theater | Ein Austausch Ã¼ber partizipative Theate
 rformen
DTSTART:20211022T190000
DTEND:20211023T200000
UID:2026-04-23-15-45-38-0-@calendar.boell.de
DTSTAMP:20260423T134538
DESCRIPTION:â–¶ Siehe Veranstaltungsbeschreibung â€“ Berlin â€“ Heinrich-BÃ
 ¶ll-Stiftung - Bundesstiftung Berlin
END:VEVENT
END:VCALENDAR
