BEGIN:VCALENDAR
VERSION:2.0
PRODID:-//ZContent.net//ZapCalLib 1.0//EN
CALSCALE:GREGORIAN
METHOD:PUBLISH
BEGIN:VEVENT
SUMMARY:Film und Gespräch: Courage  | 
DTSTART:20211007T180000
DTEND:20211007T203000
UID:2021-12-02-01-53-46-0-@calendar.boell.de
DTSTAMP:20211202T005346
DESCRIPTION:▶ Siehe Veranstaltungsbeschreibung – Halle (Saale) – Land
 esstiftung Sachsen-Anhalt
END:VEVENT
END:VCALENDAR
