BEGIN:VCALENDAR
VERSION:2.0
PRODID:-//ZContent.net//ZapCalLib 1.0//EN
CALSCALE:GREGORIAN
METHOD:PUBLISH
BEGIN:VEVENT
SUMMARY:Klimakino "Wem gehört mein Dorf?" | Dokumentarfilm und Gespräch m
 it dem Regisseur Cristoph Eder
DTSTART:20211130T193000
DTEND:20211130T210000
UID:2026-04-22-22-13-46-0-@calendar.boell.de
DTSTAMP:20260422T201346
DESCRIPTION:▶ Siehe Veranstaltungsbeschreibung – Landesstiftung Hamburg
END:VEVENT
END:VCALENDAR
