BEGIN:VCALENDAR
VERSION:2.0
PRODID:-//ZContent.net//ZapCalLib 1.0//EN
CALSCALE:GREGORIAN
METHOD:PUBLISH
BEGIN:VEVENT
SUMMARY:Zukunft der Automobilindustrie | Debatten zur Zukunft des Wirtschaf
 tens 
DTSTART:20211207T173000
DTEND:20211207T190000
UID:2021-12-02-01-55-08-0-@calendar.boell.de
DTSTAMP:20211202T005508
DESCRIPTION:▶ Online-Veranstaltung – Heinrich-Böll-Stiftung im Stiftun
 gsverbund
END:VEVENT
END:VCALENDAR
