BEGIN:VCALENDAR
VERSION:2.0
PRODID:-//ZContent.net//ZapCalLib 1.0//EN
CALSCALE:GREGORIAN
METHOD:PUBLISH
BEGIN:VEVENT
SUMMARY:Weimarer Kontroversen: Wie geht gutes Leben im Anthropozän? | Wir 
 fragen: Wie können wir durch unsere Lebensweise auf die ökologische Kris
 e reagieren? Sollten wir auf unnötigen Konsum verzichten, oder lieber gen
 ießerisch in die Zukunft gehen?
DTSTART:20211013T180000
DTEND:20211013T200000
UID:2026-04-23-02-07-19-0-@calendar.boell.de
DTSTAMP:20260423T000719
DESCRIPTION:▶ Siehe Veranstaltungsbeschreibung – 
END:VEVENT
END:VCALENDAR
