BEGIN:VCALENDAR
VERSION:2.0
PRODID:-//ZContent.net//ZapCalLib 1.0//EN
CALSCALE:GREGORIAN
METHOD:PUBLISH
BEGIN:VEVENT
SUMMARY:ZeroWaste jetzt! Einfälle für eine Stadt ohne Abfälle | Workshop
  mit Führung durch das Haus der Materialisierung
DTSTART:20211023T100000
DTEND:20211023T170000
UID:2026-04-23-17-56-31-0-@calendar.boell.de
DTSTAMP:20260423T155631
DESCRIPTION:▶ Siehe Veranstaltungsbeschreibung – Landesstiftung Berlin 
 (Bildungswerk)
END:VEVENT
END:VCALENDAR
