BEGIN:VCALENDAR
VERSION:2.0
PRODID:-//ZContent.net//ZapCalLib 1.0//EN
CALSCALE:GREGORIAN
METHOD:PUBLISH
BEGIN:VEVENT
SUMMARY:Von TINA (There is no alternative) zu Verschwörungstheorien | 
DTSTART:20211127T100000
DTEND:20211128T163000
UID:2021-12-02-01-55-43-0-@calendar.boell.de
DTSTAMP:20211202T005543
DESCRIPTION:▶ Siehe Veranstaltungsbeschreibung – Landesstiftung Berlin 
 (Bildungswerk)
END:VEVENT
END:VCALENDAR
