BEGIN:VCALENDAR
VERSION:2.0
PRODID:-//ZContent.net//ZapCalLib 1.0//EN
CALSCALE:GREGORIAN
METHOD:PUBLISH
BEGIN:VEVENT
SUMMARY:Die Taliban zurück an der Macht: Wie geht es weiter in Afghanistan
 ?  | Im Gespräch mit Hasnain Kazim
DTSTART:20211012T190000
DTEND:20211012T203000
UID:2026-04-22-21-34-09-0-@calendar.boell.de
DTSTAMP:20260422T193409
DESCRIPTION:▶ Online-Veranstaltung – Petra-Kelly-Stiftung
END:VEVENT
END:VCALENDAR
