BEGIN:VCALENDAR
VERSION:2.0
PRODID:-//ZContent.net//ZapCalLib 1.0//EN
CALSCALE:GREGORIAN
METHOD:PUBLISH
BEGIN:VEVENT
SUMMARY:FERNANDA MELCHOR PÁRADAIS  | internationales literaturfestival ber
 lin 2021
DTSTART:20210915T210000
DTEND:20210915T220000
UID:2021-12-02-01-55-49-0-@calendar.boell.de
DTSTAMP:20211202T005549
DESCRIPTION:▶ Siehe Veranstaltungsbeschreibung – 
END:VEVENT
END:VCALENDAR
