BEGIN:VCALENDAR
VERSION:2.0
PRODID:-//ZContent.net//ZapCalLib 1.0//EN
CALSCALE:GREGORIAN
METHOD:PUBLISH
BEGIN:VEVENT
SUMMARY:Demokratiebildung als â€žExtremismusprÃ¤ventionâ€œ? - Diskussion fÃ
 ¼r zivilgesellschaftlich Engagierte | Eine Veranstaltung der Reihe TolSax 
 Konkret Digital 2021 
DTSTART:20211118T150000
DTEND:20211118T173000
UID:2021-12-02-03-53-34-0-@calendar.boell.de
DTSTAMP:20211202T025334
DESCRIPTION:â–¶ Siehe Veranstaltungsbeschreibung â€“ Landesstiftung Sachsen
  (Weiterdenken)
END:VEVENT
END:VCALENDAR
