BEGIN:VCALENDAR
VERSION:2.0
PRODID:-//ZContent.net//ZapCalLib 1.0//EN
CALSCALE:GREGORIAN
METHOD:PUBLISH
BEGIN:VEVENT
SUMMARY:Look Now - Wie wirkt ein Film auf mich? | 
DTSTART:20211030T110000
DTEND:20211031T170000
UID:2021-12-02-03-53-27-0-@calendar.boell.de
DTSTAMP:20211202T025327
DESCRIPTION:▶ Siehe Veranstaltungsbeschreibung – Berlin – Landesstift
 ung Berlin (Bildungswerk)
END:VEVENT
END:VCALENDAR
