BEGIN:VCALENDAR
VERSION:2.0
PRODID:-//ZContent.net//ZapCalLib 1.0//EN
CALSCALE:GREGORIAN
METHOD:PUBLISH
BEGIN:VEVENT
SUMMARY:Ausstellung "Angekommen?!" | Vernissage
DTSTART:20211029T180000
DTEND:20211029T200000
UID:2021-12-02-03-53-24-0-@calendar.boell.de
DTSTAMP:20211202T025324
DESCRIPTION:▶ Siehe Veranstaltungsbeschreibung – Kiel – Landesstiftun
 g Schleswig-Holstein
END:VEVENT
END:VCALENDAR
