BEGIN:VCALENDAR
VERSION:2.0
PRODID:-//ZContent.net//ZapCalLib 1.0//EN
CALSCALE:GREGORIAN
METHOD:PUBLISH
BEGIN:VEVENT
SUMMARY:Ausstellung "Angekommen?!" | 
DTSTART:20211028T180000
DTEND:20220103T180000
UID:2021-12-02-03-47-25-0-@calendar.boell.de
DTSTAMP:20211202T024725
DESCRIPTION:▶ Siehe Veranstaltungsbeschreibung – Kiel – Landesstiftun
 g Schleswig-Holstein
END:VEVENT
END:VCALENDAR
