BEGIN:VCALENDAR
VERSION:2.0
PRODID:-//ZContent.net//ZapCalLib 1.0//EN
CALSCALE:GREGORIAN
METHOD:PUBLISH
BEGIN:VEVENT
SUMMARY:Diskriminierungssensible Sprache – fragen, verstehen, anwenden! |
  Workshop zum Thema Sprache und Macht mit Aşkın-Hayat Doğan
DTSTART:20220217T160000
DTEND:20220217T190000
UID:2021-12-02-03-53-23-0-@calendar.boell.de
DTSTAMP:20211202T025323
DESCRIPTION:▶ Siehe Veranstaltungsbeschreibung – Bremen – Landesstift
 ung Bremen
END:VEVENT
END:VCALENDAR
