BEGIN:VCALENDAR
VERSION:2.0
PRODID:-//ZContent.net//ZapCalLib 1.0//EN
CALSCALE:GREGORIAN
METHOD:PUBLISH
BEGIN:VEVENT
SUMMARY:Diktatur, Krieg, Exil –Schreiben für die Seele? | Rosa Yassin Ha
 ssan und die Suche nach dem verlorenen Wollknäuel
DTSTART:20211104T190000
DTEND:20211104T213000
UID:2021-12-02-03-57-51-0-@calendar.boell.de
DTSTAMP:20211202T025751
DESCRIPTION:▶ Siehe Veranstaltungsbeschreibung – Kiel – Landesstiftun
 g Schleswig-Holstein
END:VEVENT
END:VCALENDAR
