BEGIN:VCALENDAR
VERSION:2.0
PRODID:-//ZContent.net//ZapCalLib 1.0//EN
CALSCALE:GREGORIAN
METHOD:PUBLISH
BEGIN:VEVENT
SUMMARY: Der Jude im Dorn - Die Geschichte des Antijudaismus | Vortrag im R
 ahmen der Ausstellung "Shared History" des Leo Baeck Instituts New York/ B
 erlin 
DTSTART:20211001T190000
DTEND:20211001T203000
UID:2021-12-02-03-57-47-0-@calendar.boell.de
DTSTAMP:20211202T025747
DESCRIPTION:▶ Siehe Veranstaltungsbeschreibung – Weimar – Landesstift
 ung Thüringen
END:VEVENT
END:VCALENDAR
