BEGIN:VCALENDAR
VERSION:2.0
PRODID:-//ZContent.net//ZapCalLib 1.0//EN
CALSCALE:GREGORIAN
METHOD:PUBLISH
BEGIN:VEVENT
SUMMARY:Ausstellung „Von Herzen, aus Idlib“ | 
DTSTART:20211011T100000
DTEND:20211031T160000
UID:2021-12-02-03-57-50-0-@calendar.boell.de
DTSTAMP:20211202T025750
DESCRIPTION:▶ Siehe Veranstaltungsbeschreibung – Kiel – Landesstiftun
 g Schleswig-Holstein
END:VEVENT
END:VCALENDAR
