BEGIN:VCALENDAR
VERSION:2.0
PRODID:-//ZContent.net//ZapCalLib 1.0//EN
CALSCALE:GREGORIAN
METHOD:PUBLISH
BEGIN:VEVENT
SUMMARY:»Deutschland 2050«  | Der Klimawandel ist da; er ändert unser Le
 ben. 
DTSTART:20211004T200000
DTEND:20211004T220000
UID:2021-12-02-04-01-03-0-@calendar.boell.de
DTSTAMP:20211202T030103
DESCRIPTION:▶ Siehe Veranstaltungsbeschreibung – Hannover – Landessti
 ftung Niedersachsen (Leben & Umwelt)
END:VEVENT
END:VCALENDAR
