BEGIN:VCALENDAR
VERSION:2.0
PRODID:-//ZContent.net//ZapCalLib 1.0//EN
CALSCALE:GREGORIAN
METHOD:PUBLISH
BEGIN:VEVENT
SUMMARY:Die Bundestagswahl 2021 - Nachbetrachtung | Eine erste Analyse mit 
 Stefanie John
DTSTART:20210930T190000
DTEND:20210930T210000
UID:2026-04-23-02-09-10-0-@calendar.boell.de
DTSTAMP:20260423T000910
DESCRIPTION:▶ Online-Veranstaltung – Landesstiftung Rheinland-Pfalz
END:VEVENT
END:VCALENDAR
